BEGIN:VCALENDAR
VERSION:2.0
PRODID:-//ChamberMaster//Event Calendar 2.0//EN
METHOD:PUBLISH
X-PUBLISHED-TTL:P3D
REFRESH-INTERVAL:P3D
CALSCALE:GREGORIAN
BEGIN:VEVENT
DTSTART:20260815T120000Z
DTEND:20260815T180000Z
X-MICROSOFT-CDO-ALLDAYEVENT:FALSE
SUMMARY:Georgian Bay Cycle for Hope
DESCRIPTION:PEDAL WITH PURPOSE. Ride with us to strengthen cancer support in southern Georgian Bay. On August 15th\, cyclists from the southern Georgian Bay area and across Ontario will come together for the 15th Annual Georgian Bay Cycle For Hope\, raising essential funds to support cancer care programs and services in the area. Participate in 100km\, 75km\, 50km\, 25km\, 10km\, and Family Friendly rides in Penetanguishene and Collingwood.
X-ALT-DESC;FMTTYPE=text/html:PEDAL WITH PURPOSE. Ride with us to strengthen cancer support in southern Georgian Bay. On August 15th\, cyclists from the southern Georgian Bay area and across Ontario will come together for the 15th Annual Georgian Bay Cycle For Hope\, raising essential funds to support cancer care programs and services in the area. Participate in 100km\, 75km\, 50km\, 25km\, 10km\, and Family Friendly rides in Penetanguishene and Collingwood.
LOCATION:Rotary Champlain Wendat Park - 6 Owen Street\, Penetanguishene Central Park - 45 Patterson Street\, Collingwood
UID:e.3595.1395
SEQUENCE:3
DTSTAMP:20260423T101009Z
URL:https://business.segbay.ca/events/details/georgian-bay-cycle-for-hope-1395
END:VEVENT

END:VCALENDAR
