BEGIN:VCALENDAR
VERSION:2.0
PRODID:-//ChamberMaster//Event Calendar 2.0//EN
METHOD:PUBLISH
X-PUBLISHED-TTL:P3D
REFRESH-INTERVAL:P3D
CALSCALE:GREGORIAN
BEGIN:VEVENT
DTSTART:20260613T120000Z
DTEND:20260614T210000Z
X-MICROSOFT-CDO-ALLDAYEVENT:FALSE
SUMMARY:Butter Tart Classic
DESCRIPTION:The Georgian Bay Cancer Support Centre\, in partnership with Taylored Pickleball Academy\, is hosting its 4th annual Butter Tart Classic pickleball tournament to help raise awareness and funds for their cancer support centres located in Penetang & Collingwood. NEW THIS YEAR\, you will be registering as a TEAM\, not individuals\, and we will be offering two competitive brackets for each division. You can choose to participate in the: Challenge Bracket - Designed for players who enjoy faster-paced\, strategy-driven match play and thrive in a higher-intensity competitive environment - or the Rally Bracket - Perfect for players who love organized competition in a fun\, supportive setting while building confidence and consistency.
X-ALT-DESC;FMTTYPE=text/html:The Georgian Bay Cancer Support Centre\, in partnership with Taylored Pickleball Academy\, is hosting its 4th annual Butter Tart Classic pickleball tournament to help raise awareness and funds for their cancer support centres located in Penetang &amp\; Collingwood. NEW THIS YEAR\, you will be registering as a TEAM\, not individuals\, and we will be offering two competitive brackets for each division. You can choose to participate in the: Challenge Bracket - Designed for players who enjoy faster-paced\, strategy-driven match play and thrive in a higher-intensity competitive environment - or the Rally Bracket - Perfect for players who love organized competition in a fun\, supportive setting while building confidence and consistency.
LOCATION:Tiffin Park - Midland\, ON
UID:e.3595.1394
SEQUENCE:3
DTSTAMP:20260421T032735Z
URL:https://business.segbay.ca/events/details/butter-tart-classic-1394
END:VEVENT

END:VCALENDAR
